BEGIN:VCALENDAR
VERSION:2.0
PRODID:-//Hole in the Wall - ECPv6.15.20//NONSGML v1.0//EN
CALSCALE:GREGORIAN
METHOD:PUBLISH
X-ORIGINAL-URL:https://holeinthewall.ca
X-WR-CALDESC:Events for Hole in the Wall
REFRESH-INTERVAL;VALUE=DURATION:PT1H
X-Robots-Tag:noindex
X-PUBLISHED-TTL:PT1H
BEGIN:VTIMEZONE
TZID:America/Vancouver
BEGIN:DAYLIGHT
TZOFFSETFROM:-0800
TZOFFSETTO:-0700
TZNAME:PDT
DTSTART:20240310T100000
END:DAYLIGHT
BEGIN:STANDARD
TZOFFSETFROM:-0700
TZOFFSETTO:-0800
TZNAME:PST
DTSTART:20241103T090000
END:STANDARD
BEGIN:DAYLIGHT
TZOFFSETFROM:-0800
TZOFFSETTO:-0700
TZNAME:PDT
DTSTART:20250309T100000
END:DAYLIGHT
BEGIN:STANDARD
TZOFFSETFROM:-0700
TZOFFSETTO:-0800
TZNAME:PST
DTSTART:20251102T090000
END:STANDARD
BEGIN:DAYLIGHT
TZOFFSETFROM:-0800
TZOFFSETTO:-0700
TZNAME:PDT
DTSTART:20260308T100000
END:DAYLIGHT
BEGIN:STANDARD
TZOFFSETFROM:-0700
TZOFFSETTO:-0800
TZNAME:PST
DTSTART:20261101T090000
END:STANDARD
END:VTIMEZONE
BEGIN:VEVENT
DTSTART;TZID=America/Vancouver:20250608T100000
DTEND;TZID=America/Vancouver:20250608T130000
DTSTAMP:20260420T152243
CREATED:20250514T173006Z
LAST-MODIFIED:20250515T162103Z
UID:5136-1749376800-1749387600@holeinthewall.ca
SUMMARY:Champagne Brunch
DESCRIPTION:Hello Gentlemen\, \nWe are happy again to bring back the popular HITW Champagne Brunch. \nPLEASE RESPOND TO THE CONSTANT CONTACT EMAIL INVITE LETTING US KNOW YOU ARE COMING \nDATE: \nJUNE 8\, 2025 and doors open at 10:00 AM \nTIME: \nBrunch will be served at 11:00 AM \nENTERTAINMENT: \nthe wildly popular Steve “ELVIS” Elliot to entertain you \nCATERING: \nCheryl from Klassic Catering will provide a delicious champagne brunch. \nPRICE: \nThe lower price of $60.00 per person includes mimosas as well as drinks from the bar\, brunch\, and followed by live music entertainment. You don’t want to miss this! \nPAYMENT: \nplease e-transfer the $60.00 per person to Scott Hrusik\, Treasurer at Hrusik1@gmail.com or bring cash or cheque to the next Holeinthewall meeting. \nDEADLINE: \nWe need the count for the Caterer by Thursday\, June 5 \nThis Champagne Sunday Brunch is the perfect opportunity to treat your significant other\, reconnect with old friends\, and make some new ones along the way. Everyone is welcome\, so bring your friends and loved ones to join in the fun! Let’s show our club spirit and make this event a smashing success! Thank you for your continued support\, and we can’t wait to see you there!
URL:https://holeinthewall.ca/event/champagne-brunch/
LOCATION:Hole in the Wall\, 3807 Eldridge Road\, Abbotsford\, BC\, V3G 2H4\, Canada
ORGANIZER;CN="Ed Froese":MAILTO:edfroese@telus.net
END:VEVENT
BEGIN:VEVENT
DTSTART;TZID=America/Vancouver:20250611T170000
DTEND;TZID=America/Vancouver:20250611T200000
DTSTAMP:20260420T152243
CREATED:20250514T203026Z
LAST-MODIFIED:20250515T162316Z
UID:5159-1749661200-1749672000@holeinthewall.ca
SUMMARY:Dinner Meeting
DESCRIPTION:Happy hour\, fellowship and dinner
URL:https://holeinthewall.ca/event/dinner-meeting-3/
LOCATION:Hole in the Wall\, 3807 Eldridge Road\, Abbotsford\, BC\, V3G 2H4\, Canada
END:VEVENT
BEGIN:VEVENT
DTSTART;TZID=America/Vancouver:20250625T170000
DTEND;TZID=America/Vancouver:20250625T200000
DTSTAMP:20260420T152243
CREATED:20250514T203116Z
LAST-MODIFIED:20250515T162339Z
UID:5161-1750870800-1750881600@holeinthewall.ca
SUMMARY:Dinner Meeting
DESCRIPTION:Happy hour\, fellowship and dinner
URL:https://holeinthewall.ca/event/dinner-meeting-4/
LOCATION:Hole in the Wall\, 3807 Eldridge Road\, Abbotsford\, BC\, V3G 2H4\, Canada
END:VEVENT
END:VCALENDAR