BEGIN:VCALENDAR
VERSION:2.0
PRODID:-//Hole in the Wall - ECPv6.15.20//NONSGML v1.0//EN
CALSCALE:GREGORIAN
METHOD:PUBLISH
X-ORIGINAL-URL:https://holeinthewall.ca
X-WR-CALDESC:Events for Hole in the Wall
REFRESH-INTERVAL;VALUE=DURATION:PT1H
X-Robots-Tag:noindex
X-PUBLISHED-TTL:PT1H
BEGIN:VTIMEZONE
TZID:America/Vancouver
BEGIN:DAYLIGHT
TZOFFSETFROM:-0800
TZOFFSETTO:-0700
TZNAME:PDT
DTSTART:20240310T100000
END:DAYLIGHT
BEGIN:STANDARD
TZOFFSETFROM:-0700
TZOFFSETTO:-0800
TZNAME:PST
DTSTART:20241103T090000
END:STANDARD
BEGIN:DAYLIGHT
TZOFFSETFROM:-0800
TZOFFSETTO:-0700
TZNAME:PDT
DTSTART:20250309T100000
END:DAYLIGHT
BEGIN:STANDARD
TZOFFSETFROM:-0700
TZOFFSETTO:-0800
TZNAME:PST
DTSTART:20251102T090000
END:STANDARD
BEGIN:DAYLIGHT
TZOFFSETFROM:-0800
TZOFFSETTO:-0700
TZNAME:PDT
DTSTART:20260308T100000
END:DAYLIGHT
BEGIN:STANDARD
TZOFFSETFROM:-0700
TZOFFSETTO:-0800
TZNAME:PST
DTSTART:20261101T090000
END:STANDARD
END:VTIMEZONE
BEGIN:VEVENT
DTSTART;TZID=America/Vancouver:20250806T170000
DTEND;TZID=America/Vancouver:20250806T200000
DTSTAMP:20260420T070307
CREATED:20250514T204044Z
LAST-MODIFIED:20250515T162733Z
UID:5167-1754499600-1754510400@holeinthewall.ca
SUMMARY:Dinner Meeting
DESCRIPTION:Happy hour\, fellowship and dinner
URL:https://holeinthewall.ca/event/dinner-meeting-6/
LOCATION:Hole in the Wall\, 3807 Eldridge Road\, Abbotsford\, BC\, V3G 2H4\, Canada
END:VEVENT
BEGIN:VEVENT
DTSTART;TZID=America/Vancouver:20250820T170000
DTEND;TZID=America/Vancouver:20250820T200000
DTSTAMP:20260420T070307
CREATED:20250514T204126Z
LAST-MODIFIED:20250514T204126Z
UID:5169-1755709200-1755720000@holeinthewall.ca
SUMMARY:Dinner Meeting
DESCRIPTION:Happy hour\, fellowship and dinner
URL:https://holeinthewall.ca/event/dinner-meeting-7/
LOCATION:Hole in the Wall\, 3807 Eldridge Road\, Abbotsford\, BC\, V3G 2H4\, Canada
END:VEVENT
END:VCALENDAR