BEGIN:VCALENDAR
VERSION:2.0
PRODID:-//Hole in the Wall - ECPv6.15.20//NONSGML v1.0//EN
CALSCALE:GREGORIAN
METHOD:PUBLISH
X-ORIGINAL-URL:https://holeinthewall.ca
X-WR-CALDESC:Events for Hole in the Wall
REFRESH-INTERVAL;VALUE=DURATION:PT1H
X-Robots-Tag:noindex
X-PUBLISHED-TTL:PT1H
BEGIN:VTIMEZONE
TZID:America/Vancouver
BEGIN:DAYLIGHT
TZOFFSETFROM:-0800
TZOFFSETTO:-0700
TZNAME:PDT
DTSTART:20240310T100000
END:DAYLIGHT
BEGIN:STANDARD
TZOFFSETFROM:-0700
TZOFFSETTO:-0800
TZNAME:PST
DTSTART:20241103T090000
END:STANDARD
BEGIN:DAYLIGHT
TZOFFSETFROM:-0800
TZOFFSETTO:-0700
TZNAME:PDT
DTSTART:20250309T100000
END:DAYLIGHT
BEGIN:STANDARD
TZOFFSETFROM:-0700
TZOFFSETTO:-0800
TZNAME:PST
DTSTART:20251102T090000
END:STANDARD
BEGIN:DAYLIGHT
TZOFFSETFROM:-0800
TZOFFSETTO:-0700
TZNAME:PDT
DTSTART:20260308T100000
END:DAYLIGHT
BEGIN:STANDARD
TZOFFSETFROM:-0700
TZOFFSETTO:-0800
TZNAME:PST
DTSTART:20261101T090000
END:STANDARD
END:VTIMEZONE
BEGIN:VEVENT
DTSTART;TZID=America/Vancouver:20251001T170000
DTEND;TZID=America/Vancouver:20251001T200000
DTSTAMP:20260420T032507
CREATED:20250514T204637Z
LAST-MODIFIED:20250515T162606Z
UID:5177-1759338000-1759348800@holeinthewall.ca
SUMMARY:Dinner Meeting
DESCRIPTION:Happy hour\, fellowship and dinner
URL:https://holeinthewall.ca/event/dinner-meeting-10/
LOCATION:Hole in the Wall\, 3807 Eldridge Road\, Abbotsford\, BC\, V3G 2H4\, Canada
END:VEVENT
BEGIN:VEVENT
DTSTART;TZID=America/Vancouver:20251015T170000
DTEND;TZID=America/Vancouver:20251015T200000
DTSTAMP:20260420T032507
CREATED:20250514T204736Z
LAST-MODIFIED:20250515T162547Z
UID:5179-1760547600-1760558400@holeinthewall.ca
SUMMARY:Dinner Meeting
DESCRIPTION:Happy hour\, fellowship and dinner
URL:https://holeinthewall.ca/event/dinner-meeting-11/
LOCATION:Hole in the Wall\, 3807 Eldridge Road\, Abbotsford\, BC\, V3G 2H4\, Canada
END:VEVENT
BEGIN:VEVENT
DTSTART;TZID=America/Vancouver:20251029T170000
DTEND;TZID=America/Vancouver:20251029T200000
DTSTAMP:20260420T032507
CREATED:20250514T204257Z
LAST-MODIFIED:20250911T195402Z
UID:5171-1761757200-1761768000@holeinthewall.ca
SUMMARY:Reverse Draw Meeting
DESCRIPTION:Reverse draw night (this is the largest fundraiser for the club. Thanks for your support)
URL:https://holeinthewall.ca/event/reverse-draw-meeting/
LOCATION:Hole in the Wall\, 3807 Eldridge Road\, Abbotsford\, BC\, V3G 2H4\, Canada
END:VEVENT
END:VCALENDAR